BEGIN:VCALENDAR
VERSION:2.0
PRODID:-//OpenExO - ECPv6.10.2//NONSGML v1.0//EN
CALSCALE:GREGORIAN
METHOD:PUBLISH
X-WR-CALNAME:OpenExO
X-ORIGINAL-URL:https://web.openexo.com
X-WR-CALDESC:Events for OpenExO
REFRESH-INTERVAL;VALUE=DURATION:PT1H
X-Robots-Tag:noindex
X-PUBLISHED-TTL:PT1H
BEGIN:VTIMEZONE
TZID:UTC
BEGIN:STANDARD
TZOFFSETFROM:+0000
TZOFFSETTO:+0000
TZNAME:UTC
DTSTART:20270101T000000
END:STANDARD
END:VTIMEZONE
BEGIN:VEVENT
DTSTART;TZID=UTC:20270107T163000
DTEND;TZID=UTC:20270107T173000
DTSTAMP:20260422T221110
CREATED:20240715T172210Z
LAST-MODIFIED:20250130T232719Z
UID:10006834-1799339400-1799343000@web.openexo.com
SUMMARY:ExO Networking Call
DESCRIPTION:Do you want to be an active community member\, meet other like-minded people and create valuable connections? If you haven’t yet joined our weekly Networking calls then you should do it now! \n\n\nHere’s what you can expect from our Networking calls: \n\n\nAn opportunity to introduce yourself\, your company\, project\, or startup.\nA chance to share your contact details\, social profiles\, and website with others.\nSpeed-dating sessions to get to know other members.\nAn open forum to ask any ExO related questions.\nThe opportunity to find valuable connections in your country\, region\, or industry.\nMeaningful discussions with like-minded people.\nThe chance to find future project collaborators.\nGuidelines about ExO.\n\nJOIN VIA THE LEARNING HUB \n\n 
URL:https://web.openexo.com/calendar/exo-networking-call-8-2/2027-01-07/
LOCATION:https://learn.openexo.com/courses/exo-networking/
ATTACH;FMTTYPE=image/png:https://web.openexo.com/wp-content/uploads/2023/10/Email_Networking-calls_V2.png
END:VEVENT
BEGIN:VEVENT
DTSTART;TZID=UTC:20270114T163000
DTEND;TZID=UTC:20270114T173000
DTSTAMP:20260422T221110
CREATED:20240715T172210Z
LAST-MODIFIED:20250130T232719Z
UID:10006835-1799944200-1799947800@web.openexo.com
SUMMARY:ExO Networking Call
DESCRIPTION:Do you want to be an active community member\, meet other like-minded people and create valuable connections? If you haven’t yet joined our weekly Networking calls then you should do it now! \n\n\nHere’s what you can expect from our Networking calls: \n\n\nAn opportunity to introduce yourself\, your company\, project\, or startup.\nA chance to share your contact details\, social profiles\, and website with others.\nSpeed-dating sessions to get to know other members.\nAn open forum to ask any ExO related questions.\nThe opportunity to find valuable connections in your country\, region\, or industry.\nMeaningful discussions with like-minded people.\nThe chance to find future project collaborators.\nGuidelines about ExO.\n\nJOIN VIA THE LEARNING HUB \n\n 
URL:https://web.openexo.com/calendar/exo-networking-call-8-2/2027-01-14/
LOCATION:https://learn.openexo.com/courses/exo-networking/
ATTACH;FMTTYPE=image/png:https://web.openexo.com/wp-content/uploads/2023/10/Email_Networking-calls_V2.png
END:VEVENT
BEGIN:VEVENT
DTSTART;TZID=UTC:20270121T163000
DTEND;TZID=UTC:20270121T173000
DTSTAMP:20260422T221110
CREATED:20240715T172210Z
LAST-MODIFIED:20250130T232719Z
UID:10006836-1800549000-1800552600@web.openexo.com
SUMMARY:ExO Networking Call
DESCRIPTION:Do you want to be an active community member\, meet other like-minded people and create valuable connections? If you haven’t yet joined our weekly Networking calls then you should do it now! \n\n\nHere’s what you can expect from our Networking calls: \n\n\nAn opportunity to introduce yourself\, your company\, project\, or startup.\nA chance to share your contact details\, social profiles\, and website with others.\nSpeed-dating sessions to get to know other members.\nAn open forum to ask any ExO related questions.\nThe opportunity to find valuable connections in your country\, region\, or industry.\nMeaningful discussions with like-minded people.\nThe chance to find future project collaborators.\nGuidelines about ExO.\n\nJOIN VIA THE LEARNING HUB \n\n 
URL:https://web.openexo.com/calendar/exo-networking-call-8-2/2027-01-21/
LOCATION:https://learn.openexo.com/courses/exo-networking/
ATTACH;FMTTYPE=image/png:https://web.openexo.com/wp-content/uploads/2023/10/Email_Networking-calls_V2.png
END:VEVENT
BEGIN:VEVENT
DTSTART;TZID=UTC:20270128T163000
DTEND;TZID=UTC:20270128T173000
DTSTAMP:20260422T221110
CREATED:20240715T172210Z
LAST-MODIFIED:20250130T232719Z
UID:10006837-1801153800-1801157400@web.openexo.com
SUMMARY:ExO Networking Call
DESCRIPTION:Do you want to be an active community member\, meet other like-minded people and create valuable connections? If you haven’t yet joined our weekly Networking calls then you should do it now! \n\n\nHere’s what you can expect from our Networking calls: \n\n\nAn opportunity to introduce yourself\, your company\, project\, or startup.\nA chance to share your contact details\, social profiles\, and website with others.\nSpeed-dating sessions to get to know other members.\nAn open forum to ask any ExO related questions.\nThe opportunity to find valuable connections in your country\, region\, or industry.\nMeaningful discussions with like-minded people.\nThe chance to find future project collaborators.\nGuidelines about ExO.\n\nJOIN VIA THE LEARNING HUB \n\n 
URL:https://web.openexo.com/calendar/exo-networking-call-8-2/2027-01-28/
LOCATION:https://learn.openexo.com/courses/exo-networking/
ATTACH;FMTTYPE=image/png:https://web.openexo.com/wp-content/uploads/2023/10/Email_Networking-calls_V2.png
END:VEVENT
END:VCALENDAR